BEGIN:VCALENDAR
VERSION:2.0
PRODID:-//Rags2Wags - ECPv6.3.1//NONSGML v1.0//EN
CALSCALE:GREGORIAN
METHOD:PUBLISH
X-WR-CALNAME:Rags2Wags
X-ORIGINAL-URL:https://rags2wagsrescue.org
X-WR-CALDESC:Events for Rags2Wags
REFRESH-INTERVAL;VALUE=DURATION:PT1H
X-Robots-Tag:noindex
X-PUBLISHED-TTL:PT1H
BEGIN:VTIMEZONE
TZID:America/Los_Angeles
BEGIN:DAYLIGHT
TZOFFSETFROM:-0800
TZOFFSETTO:-0700
TZNAME:PDT
DTSTART:20230312T100000
END:DAYLIGHT
BEGIN:STANDARD
TZOFFSETFROM:-0700
TZOFFSETTO:-0800
TZNAME:PST
DTSTART:20231105T090000
END:STANDARD
END:VTIMEZONE
BEGIN:VEVENT
DTSTART;TZID=America/Los_Angeles:20230325T123000
DTEND;TZID=America/Los_Angeles:20230325T150000
DTSTAMP:20260421T171743
CREATED:20230307T234657Z
LAST-MODIFIED:20230307T234657Z
UID:338-1679747400-1679756400@rags2wagsrescue.org
SUMMARY:Kahoots Feed & Pet 
DESCRIPTION:Saturday’s\n3/ 11/23\n3/18/23\n3/25/23\n\n12:30 – 3 pm\n\nKahoots Feed & Pet\n10360 Mason Ave\nChatsworth\, CA 91311\n818-718-9850
URL:https://rags2wagsrescue.org/event/kahoots-feed-pet-3/
LOCATION:Kahoots Feed & Pet\, 10360 Mason Ave\, Chatsworth\, CA\, 91311\, United States
END:VEVENT
BEGIN:VEVENT
DTSTART;TZID=America/Los_Angeles:20230318T123000
DTEND;TZID=America/Los_Angeles:20230318T150000
DTSTAMP:20260421T171743
CREATED:20230307T234538Z
LAST-MODIFIED:20230307T234538Z
UID:335-1679142600-1679151600@rags2wagsrescue.org
SUMMARY:Kahoots Feed & Pet
DESCRIPTION:Saturday’s\n3/ 11/23\n3/18/23\n3/25/23\n\n12:30 – 3 pm\n\nKahoots Feed & Pet\n10360 Mason Ave\nChatsworth\, CA 91311\n818-718-9850
URL:https://rags2wagsrescue.org/event/kahoots-feed-pet-2/
LOCATION:Kahoots Feed & Pet\, 10360 Mason Ave\, Chatsworth\, CA\, 91311\, United States
END:VEVENT
BEGIN:VEVENT
DTSTART;TZID=America/Los_Angeles:20230311T123000
DTEND;TZID=America/Los_Angeles:20230311T150000
DTSTAMP:20260421T171743
CREATED:20230307T232932Z
LAST-MODIFIED:20230307T233311Z
UID:326-1678537800-1678546800@rags2wagsrescue.org
SUMMARY:Kahoots Feed & Pet
DESCRIPTION:Saturday’s\n3/ 11/23\n3/18/23\n3/25/23\n\n12:30 – 3 pm\n\nKahoots Feed & Pet\n10360 Mason Ave\nChatsworth\, CA 91311\n818-718-9850
URL:https://rags2wagsrescue.org/event/kahoots-feed-pet/
LOCATION:Kahoots Feed & Pet\, 10360 Mason Ave\, Chatsworth\, CA\, 91311\, United States
END:VEVENT
END:VCALENDAR